BEGIN:VCALENDAR
VERSION:2.0
PRODID:-//Tukios.com/
BEGIN:VEVENT
UID:e5557432-2a9f-4d8a-a3a9-b6c58962216e@www.worlein.com
DTSTAMP:20260421T202252Z
DTSTART:20260503T193000Z
DTEND:20260503T203000Z
SUMMARY:Memorial Service
DESCRIPTION:
URL:https://www.worlein.com/obituaries/thomas-tom-butler
LOCATION: 434 1st St SW  Blooming Prairie MN 55917
GEO:43.8656094;-93.0611414
END:VEVENT
END:VCALENDAR