BEGIN:VCALENDAR
VERSION:2.0
PRODID:-//Tukios.com/
BEGIN:VEVENT
UID:94406b76-426d-482f-8001-179a0b21d847@www.worlein.com
DTSTAMP:20260421T201504Z
DTSTART:20260503T180000Z
DTEND:20260503T193000Z
SUMMARY:Visitation
DESCRIPTION:
URL:https://www.worlein.com/obituaries/thomas-tom-butler
LOCATION: 434 1st St SW  Blooming Prairie MN 55917
GEO:43.8656094;-93.0611414
END:VEVENT
END:VCALENDAR