BEGIN:VCALENDAR
VERSION:2.0
PRODID:-//Tukios.com/
BEGIN:VEVENT
UID:d1d3d32c-b030-4e92-afa2-c243650e54fc@www.worlein.com
DTSTAMP:20260420T192307Z
DTSTART:20260424T193000Z
DTEND:20260424T203000Z
SUMMARY:Memorial Service
DESCRIPTION:
URL:https://www.worlein.com/obituaries/samantha-aguilar
LOCATION: 1801 4th Street NW  Austin MN 55912
GEO:43.6833567;-92.980252
END:VEVENT
END:VCALENDAR