BEGIN:VCALENDAR
VERSION:2.0
PRODID:-//Tukios.com/
BEGIN:VEVENT
UID:a8338dd4-2963-429a-9982-e87dd1e7efff@www.worlein.com
DTSTAMP:20260420T191556Z
DTSTART:20260424T183000Z
DTEND:20260424T193000Z
SUMMARY:Visitation
DESCRIPTION:
URL:https://www.worlein.com/obituaries/samantha-aguilar
LOCATION: 1801 4th Street NW  Austin MN 55912
GEO:43.6833567;-92.980252
END:VEVENT
END:VCALENDAR