BEGIN:VCALENDAR
VERSION:2.0
PRODID:-//Tukios.com/
BEGIN:VEVENT
UID:9642b9f9-71f8-4f7e-8c04-d26b6f23f4c1@www.worlein.com
DTSTAMP:20260421T205732Z
DTSTART:20260509T170000Z
DTEND:20260509T190000Z
SUMMARY:Memorial Gathering
DESCRIPTION:
URL:https://www.worlein.com/obituaries/judith-judy-scheffel-stark
LOCATION: 1801 4th Street NW  Austin MN 55912
GEO:43.6833567;-92.980252
END:VEVENT
END:VCALENDAR