BEGIN:VCALENDAR
VERSION:2.0
PRODID:-//Tukios.com/
BEGIN:VEVENT
UID:4d990aa6-edb3-4761-b0bc-a5e9f39816ed@www.worlein.com
DTSTAMP:20260425T035208Z
DTSTART:20260501T160000Z
DTEND:20260501T170000Z
SUMMARY:Memorial Service
DESCRIPTION:
URL:https://www.worlein.com/obituaries/jacob-carlson
LOCATION: 1403 1st Ave SW  Austin MN 55912
GEO:43.6658605;-92.9916981
END:VEVENT
END:VCALENDAR