BEGIN:VCALENDAR
VERSION:2.0
PRODID:-//Tukios.com/
BEGIN:VEVENT
UID:b117cf0a-18f7-478f-b5f3-db1a6c5649d8@www.worlein.com
DTSTAMP:20260425T034704Z
DTSTART:20260501T150000Z
DTEND:20260501T160000Z
SUMMARY:Visitation
DESCRIPTION:
URL:https://www.worlein.com/obituaries/jacob-carlson
LOCATION: 1403 1st Ave SW  Austin MN 55912
GEO:43.6658605;-92.9916981
END:VEVENT
END:VCALENDAR