BEGIN:VCALENDAR
VERSION:2.0
PRODID:-//Tukios.com/
BEGIN:VEVENT
UID:3406b3ba-002c-45c2-913a-74d58086e4df@www.worlein.com
DTSTAMP:20260425T034611Z
DTSTART:20260430T210000Z
DTEND:20260501T000000Z
SUMMARY:Visitation
DESCRIPTION:
URL:https://www.worlein.com/obituaries/jacob-carlson
LOCATION: 1801 4th Street NW  Austin MN 55912
GEO:43.6833567;-92.980252
END:VEVENT
END:VCALENDAR